BEGIN:VCALENDAR
VERSION:2.0
PRODID:-//Ecole Saint Joseph Pavie à La Baule - Saint-Nazaire - Guérande (44 - Loire-Atlantique) - ECPv5.3.1.1//NONSGML v1.0//EN
CALSCALE:GREGORIAN
METHOD:PUBLISH
X-WR-CALNAME:Ecole Saint Joseph Pavie à La Baule - Saint-Nazaire - Guérande (44 - Loire-Atlantique)
X-ORIGINAL-URL:https://www.ecole-pavie.fr
X-WR-CALDESC:évènements pour Ecole Saint Joseph Pavie à La Baule - Saint-Nazaire - Guérande (44 - Loire-Atlantique)
BEGIN:VTIMEZONE
TZID:Europe/Paris
BEGIN:DAYLIGHT
TZOFFSETFROM:+0100
TZOFFSETTO:+0200
TZNAME:CEST
DTSTART:20190331T010000
END:DAYLIGHT
BEGIN:STANDARD
TZOFFSETFROM:+0200
TZOFFSETTO:+0100
TZNAME:CET
DTSTART:20191027T010000
END:STANDARD
END:VTIMEZONE
BEGIN:VEVENT
DTSTART;TZID=Europe/Paris:20190622T173000
DTEND;TZID=Europe/Paris:20190622T223000
DTSTAMP:20260425T211849
CREATED:20181112T134404Z
LAST-MODIFIED:20190613T093909Z
UID:5438-1561224600-1561242600@www.ecole-pavie.fr
SUMMARY:KERMESSE de l'école
DESCRIPTION:
URL:https://www.ecole-pavie.fr/agenda/kermesse-de-lecole/
LOCATION:Ecole St Joseph Pavie
CATEGORIES:actualités
ATTACH;FMTTYPE=image/jpeg:https://www.ecole-pavie.fr/wp-content/uploads/2018/11/Pavie_Kermesse-2019-affiche.jpg
END:VEVENT
END:VCALENDAR