BEGIN:VCALENDAR
VERSION:2.0
PRODID:-//Ecole Saint Joseph Pavie à La Baule - Saint-Nazaire - Guérande (44 - Loire-Atlantique) - ECPv5.3.1.1//NONSGML v1.0//EN
CALSCALE:GREGORIAN
METHOD:PUBLISH
X-WR-CALNAME:Ecole Saint Joseph Pavie à La Baule - Saint-Nazaire - Guérande (44 - Loire-Atlantique)
X-ORIGINAL-URL:https://www.ecole-pavie.fr
X-WR-CALDESC:évènements pour Ecole Saint Joseph Pavie à La Baule - Saint-Nazaire - Guérande (44 - Loire-Atlantique)
BEGIN:VTIMEZONE
TZID:Europe/Paris
BEGIN:DAYLIGHT
TZOFFSETFROM:+0100
TZOFFSETTO:+0200
TZNAME:CEST
DTSTART:20190331T010000
END:DAYLIGHT
BEGIN:STANDARD
TZOFFSETFROM:+0200
TZOFFSETTO:+0100
TZNAME:CET
DTSTART:20191027T010000
END:STANDARD
END:VTIMEZONE
BEGIN:VEVENT
DTSTART;VALUE=DATE:20190929
DTEND;VALUE=DATE:20190930
DTSTAMP:20260425T224526
CREATED:20190710T123127Z
LAST-MODIFIED:20190710T123216Z
UID:5529-1569715200-1569801599@www.ecole-pavie.fr
SUMMARY:VIDE GRENIERS DIMANCHE 29 SEPTEMBRE À LA BAULE
DESCRIPTION:FORMULAIRE ET REGLEMENT Cliquez ici \nRenseignements et inscription : 06 62 22 91 14 ou ecolepavielabaule@gmail.com \nPaiement accepté  par virement\, chèque ou espèces pour la réservation de ou des emplacements à l’ordre de l’APEL. \nBuvette et petite restauration sur place. \n160 exposants \n  \n 
URL:https://www.ecole-pavie.fr/agenda/vide-greniers-dimanche-29-septembre-a-la-baule/
LOCATION:Place des salines\, Place des salines\, La Baule\, 44500\, France
CATEGORIES:actualités
ATTACH;FMTTYPE=image/jpeg:https://www.ecole-pavie.fr/wp-content/uploads/2019/07/Diapositive1.jpg
END:VEVENT
END:VCALENDAR